BEGIN:VCALENDAR
VERSION:2.0
PRODID:-//Carpenters Local 792 - ECPv6.15.17.1//NONSGML v1.0//EN
CALSCALE:GREGORIAN
METHOD:PUBLISH
X-WR-CALNAME:Carpenters Local 792
X-ORIGINAL-URL:https://www.carpenter792.org
X-WR-CALDESC:Events for Carpenters Local 792
REFRESH-INTERVAL;VALUE=DURATION:PT1H
X-Robots-Tag:noindex
X-PUBLISHED-TTL:PT1H
BEGIN:VTIMEZONE
TZID:America/Chicago
BEGIN:DAYLIGHT
TZOFFSETFROM:-0600
TZOFFSETTO:-0500
TZNAME:CDT
DTSTART:20250309T080000
END:DAYLIGHT
BEGIN:STANDARD
TZOFFSETFROM:-0500
TZOFFSETTO:-0600
TZNAME:CST
DTSTART:20251102T070000
END:STANDARD
BEGIN:DAYLIGHT
TZOFFSETFROM:-0600
TZOFFSETTO:-0500
TZNAME:CDT
DTSTART:20260308T080000
END:DAYLIGHT
BEGIN:STANDARD
TZOFFSETFROM:-0500
TZOFFSETTO:-0600
TZNAME:CST
DTSTART:20261101T070000
END:STANDARD
BEGIN:DAYLIGHT
TZOFFSETFROM:-0600
TZOFFSETTO:-0500
TZNAME:CDT
DTSTART:20270314T080000
END:DAYLIGHT
BEGIN:STANDARD
TZOFFSETFROM:-0500
TZOFFSETTO:-0600
TZNAME:CST
DTSTART:20271107T070000
END:STANDARD
END:VTIMEZONE
BEGIN:VEVENT
DTSTART;TZID=America/Chicago:20260424T173000
DTEND;TZID=America/Chicago:20260424T223000
DTSTAMP:20260424T070906
CREATED:20251208T053644Z
LAST-MODIFIED:20260327T184615Z
UID:1841-1777051800-1777069800@www.carpenter792.org
SUMMARY:125th Anniversary Celebration
DESCRIPTION:Carpenters Local 792 is celebrating its 125th anniversary – a significant milestone that reflects our collective achievements and commitment to our members\, our contractors\, and our community. We invite you and a guest to join us for an evening of celebration\, camaraderie\, and remembrance of our shared journey. \nSchedule of Events:\nSocial Hour: 5:30 PM\nDinner: 6:30 PM\nLive Music by Semple Band\nMembers are allowed 1 guest\, dinner selections can be made during ticket registration.\nRSVP by March 25\, 2026 \nRSVPs are required for this event and there is no charge for you and your guest to attend. All guests must be 18 years or older\, and members are asked to be in goodstanding to participate.
URL:https://www.carpenter792.org/event/125th-anniversary/
LOCATION:Hard Rock Casino\, 7801 E State Street\, Rockford\, IL\, United States
ATTACH;FMTTYPE=image/png:https://www.carpenter792.org/wp-content/uploads/2025/12/CarpenterBanner1.png
END:VEVENT
END:VCALENDAR